BEGIN:VCALENDAR
VERSION:2.0
PRODID:DPCALENDAR
CALSCALE:GREGORIAN
X-WR-TIMEZONE:UTC
BEGIN:VEVENT
DTSTART;TZID=UTC:20240612T071000
DTEND;TZID=UTC:20240612T081000
UID:2900FE10-06D3-451B-814B-47D89503AD98
SUMMARY:Biobäuerinnen 1.&2. Schulstufe
CREATED:20240404T070242Z
DTSTAMP:20240404T070242Z
URL:https://vspfaffenschlag.ac.at/index.php/termine/biobaeuerinnen-1-2-schulstufe
X-ACCESS:1
X-HITS:1
X-COLOR:3366CC
X-SHOW-END-TIME:0
END:VEVENT
END:VCALENDAR