BEGIN:VCALENDAR
VERSION:2.0
PRODID:DPCALENDAR
CALSCALE:GREGORIAN
X-WR-TIMEZONE:UTC
BEGIN:VEVENT
DTSTART;TZID=UTC:20240424T070000
DTEND;TZID=UTC:20240424T120000
UID:CE019E8A-E512-4500-A52D-14FE6CFC2EBE
SUMMARY:Gesunde Jause
CREATED:20240402T071532Z
DTSTAMP:20240402T071532Z
URL:https://vspfaffenschlag.ac.at/index.php/termine/gesunde-jause
LAST-MODIFIED:20240402T105117Z
SEQUENCE:12945
X-ACCESS:1
X-HITS:1
X-COLOR:c8d29d
X-SHOW-END-TIME:0
END:VEVENT
BEGIN:VEVENT
DTSTART;TZID=UTC:20240528T070000
DTEND;TZID=UTC:20240528T080000
UID:7773E491-2097-4460-B61C-4A805A7F6D02
SUMMARY:Gesunde Jause 🍎
CREATED:20240404T070049Z
DTSTAMP:20240404T070049Z
URL:https://vspfaffenschlag.ac.at/index.php/termine/gesunde-jause-2
LAST-MODIFIED:20240514T103455Z
SEQUENCE:3468846
X-ACCESS:1
X-HITS:1
X-COLOR:c8d29d
X-SHOW-END-TIME:0
END:VEVENT
BEGIN:VEVENT
DTSTART;TZID=UTC:20240621T071000
DTEND;TZID=UTC:20240621T081000
UID:3F387A95-69BC-497E-A4CA-1CEAAEF8A62D
SUMMARY:Gesunde Jause 🍎
CREATED:20240404T070418Z
DTSTAMP:20240404T070418Z
URL:https://vspfaffenschlag.ac.at/index.php/termine/gesunde-jause-3
LAST-MODIFIED:20240614T075305Z
SEQUENCE:6137327
X-ACCESS:1
X-HITS:1
X-COLOR:c8d29d
X-SHOW-END-TIME:0
END:VEVENT
BEGIN:VEVENT
DTSTART;TZID=UTC:20250319T080000
DTEND;TZID=UTC:20250319T090000
UID:0692DF83-3045-4388-BDB3-362FA001AF50
SUMMARY:Milch-Workshop🐄
CREATED:20250115T063830Z
DTSTAMP:20250115T063830Z
URL:https://vspfaffenschlag.ac.at/index.php/termine/milch-workshop
LAST-MODIFIED:20250307T070916Z
SEQUENCE:4408246
X-ACCESS:1
X-HITS:11
X-COLOR:c8d29d
X-SHOW-END-TIME:0
END:VEVENT
BEGIN:VEVENT
DTSTART;TZID=UTC:20250509T130000
DTEND;TZID=UTC:20250509T140000
UID:754FEA7D-768B-4F7F-9B8A-AE169B603106
SUMMARY:Gesunde Schule: Eltern-Kind-Kochkurs 👨‍🍳🍳
CREATED:20250131T103139Z
DTSTAMP:20250131T103139Z
URL:https://vspfaffenschlag.ac.at/index.php/termine/gesunde-schule-eltern-kind-kochkurs
LAST-MODIFIED:20250404T102445Z
SEQUENCE:5442786
X-ACCESS:1
X-HITS:11
X-COLOR:c8d29d
X-SHOW-END-TIME:0
END:VEVENT
BEGIN:VEVENT
DTSTART;TZID=UTC:20250513T080000
DTEND;TZID=UTC:20250513T090000
UID:1EA80400-82BF-415B-AC5D-089D8FF44C2C
SUMMARY:Ballsport mit Martin⚽
CREATED:20250218T085146Z
DTSTAMP:20250218T085146Z
URL:https://vspfaffenschlag.ac.at/index.php/termine/ballsport-mit-martin-5
LAST-MODIFIED:20250218T085146Z
SEQUENCE:0
X-ACCESS:1
X-HITS:1
X-COLOR:c8d29d
X-SHOW-END-TIME:0
END:VEVENT
BEGIN:VEVENT
DTSTART;TZID=UTC:20250520T080000
DTEND;TZID=UTC:20250520T090000
UID:390D8DAC-7FC3-4D69-B673-382A6B8767EB
SUMMARY:Ballsport mit Martin⚽
CREATED:20250218T085201Z
DTSTAMP:20250218T085201Z
URL:https://vspfaffenschlag.ac.at/index.php/termine/ballsport-mit-martin-6
LAST-MODIFIED:20250218T085201Z
SEQUENCE:0
X-ACCESS:1
X-HITS:1
X-COLOR:c8d29d
X-SHOW-END-TIME:0
END:VEVENT
BEGIN:VEVENT
DTSTART;TZID=UTC:20250603T080000
DTEND;TZID=UTC:20250603T090000
UID:451D1E16-4016-4E01-BABC-A8F1B3D01C3A
SUMMARY:Ballsport mit Martin⚽
CREATED:20250218T085241Z
DTSTAMP:20250218T085241Z
URL:https://vspfaffenschlag.ac.at/index.php/termine/ballsport-mit-martin-7
LAST-MODIFIED:20250218T085241Z
SEQUENCE:0
X-ACCESS:1
X-HITS:2
X-COLOR:c8d29d
X-SHOW-END-TIME:0
END:VEVENT
BEGIN:VEVENT
DTSTART;TZID=UTC:20250612T080000
DTEND;TZID=UTC:20250612T090000
UID:7F8CAD25-3C16-4CA6-A4E7-F11394B38C33
SUMMARY:Ballsport mit Martin⚽
CREATED:20250218T085255Z
DTSTAMP:20250218T085255Z
URL:https://vspfaffenschlag.ac.at/index.php/termine/ballsport-mit-martin-8
LAST-MODIFIED:20250520T081129Z
SEQUENCE:7859914
X-ACCESS:1
X-HITS:2
X-COLOR:c8d29d
X-SHOW-END-TIME:0
END:VEVENT
BEGIN:VEVENT
DTSTART;TZID=UTC:20250918T070000
DTEND;TZID=UTC:20250918T080000
UID:8935CD24-9B8D-4677-B177-8F5DB7874F73
SUMMARY:Gesunde Jause 🍅🥕🫛
CREATED:20250909T073845Z
DTSTAMP:20250909T073845Z
URL:https://vspfaffenschlag.ac.at/index.php/termine/gesunde-jause-4
LAST-MODIFIED:20250909T073845Z
SEQUENCE:0
X-ACCESS:1
X-HITS:6
X-COLOR:c8d29d
X-SHOW-END-TIME:0
END:VEVENT
BEGIN:VEVENT
DTSTART;TZID=UTC:20251023T070000
DTEND;TZID=UTC:20251023T080000
UID:AD1341B5-61DA-41B3-9262-173EBE3DE979
SUMMARY:Gesunde Jause 🍅🥕🫛
CREATED:20250909T073845Z
DTSTAMP:20250909T073845Z
URL:https://vspfaffenschlag.ac.at/index.php/termine/gesunde-jause-5
LAST-MODIFIED:20250909T073910Z
SEQUENCE:25
X-ACCESS:1
X-HITS:4
X-COLOR:c8d29d
X-SHOW-END-TIME:0
END:VEVENT
BEGIN:VEVENT
DTSTART;TZID=UTC:20251127T070000
DTEND;TZID=UTC:20251127T080000
UID:10AB458D-8ECD-455A-B232-67C6C3EB78B0
SUMMARY:Gesunde Jause 🍅🥕🫛
CREATED:20250909T073845Z
DTSTAMP:20250909T073845Z
URL:https://vspfaffenschlag.ac.at/index.php/termine/gesunde-jause-6
LAST-MODIFIED:20250909T073923Z
SEQUENCE:38
X-ACCESS:1
X-HITS:3
X-COLOR:c8d29d
X-SHOW-END-TIME:0
END:VEVENT
BEGIN:VEVENT
DTSTART;TZID=UTC:20251218T070000
DTEND;TZID=UTC:20251218T080000
UID:8469B8D0-1EF5-40AC-A16F-CCB19169E1F6
SUMMARY:Gesunde Jause 🍅🥕🫛
CREATED:20250909T073845Z
DTSTAMP:20250909T073845Z
URL:https://vspfaffenschlag.ac.at/index.php/termine/gesunde-jause-7
LAST-MODIFIED:20250909T073932Z
SEQUENCE:47
X-ACCESS:1
X-HITS:2
X-COLOR:c8d29d
X-SHOW-END-TIME:0
END:VEVENT
BEGIN:VEVENT
DTSTART;TZID=UTC:20260129T070000
DTEND;TZID=UTC:20260129T080000
UID:EF868242-B586-4D44-AF82-3222365E82F1
SUMMARY:Gesunde Jause 🍅🥕🫛
CREATED:20250909T073845Z
DTSTAMP:20250909T073845Z
URL:https://vspfaffenschlag.ac.at/index.php/termine/gesunde-jause-8
LAST-MODIFIED:20250909T073943Z
SEQUENCE:58
X-ACCESS:1
X-HITS:1
X-COLOR:c8d29d
X-SHOW-END-TIME:0
END:VEVENT
BEGIN:VEVENT
DTSTART;TZID=UTC:20260226T070000
DTEND;TZID=UTC:20260226T080000
UID:390A5BA7-08FA-4404-913D-A6F5E9994F9C
SUMMARY:Gesunde Jause 🍅🥕🫛
CREATED:20250909T073845Z
DTSTAMP:20250909T073845Z
URL:https://vspfaffenschlag.ac.at/index.php/termine/gesunde-jause-9
LAST-MODIFIED:20250909T073949Z
SEQUENCE:64
X-ACCESS:1
X-HITS:2
X-COLOR:c8d29d
X-SHOW-END-TIME:0
END:VEVENT
BEGIN:VEVENT
DTSTART;TZID=UTC:20260528T070000
DTEND;TZID=UTC:20260528T080000
UID:09073050-19EB-4291-86DA-1DE2A00480BA
SUMMARY:Gesunde Jause 🍅🥕🫛
CREATED:20250909T073845Z
DTSTAMP:20250909T073845Z
URL:https://vspfaffenschlag.ac.at/index.php/termine/gesunde-jause-11
LAST-MODIFIED:20250909T074006Z
SEQUENCE:81
X-ACCESS:1
X-HITS:1
X-COLOR:c8d29d
X-SHOW-END-TIME:0
END:VEVENT
BEGIN:VEVENT
DTSTART;TZID=UTC:20260625T070000
DTEND;TZID=UTC:20260625T080000
UID:3566F3EF-5A10-4411-A547-26334E372233
SUMMARY:Gesunde Jause 🍅🥕🫛
CREATED:20250909T073845Z
DTSTAMP:20250909T073845Z
URL:https://vspfaffenschlag.ac.at/index.php/termine/gesunde-jause-12
LAST-MODIFIED:20250909T074013Z
SEQUENCE:88
X-ACCESS:1
X-HITS:1
X-COLOR:c8d29d
X-SHOW-END-TIME:0
END:VEVENT
END:VCALENDAR