BEGIN:VCALENDAR
VERSION:2.0
PRODID:DPCALENDAR
CALSCALE:GREGORIAN
X-WR-TIMEZONE:UTC
BEGIN:VEVENT
DTSTART;TZID=UTC:20240405T071000
DTEND;TZID=UTC:20240405T081000
UID:9088D44E-5C5A-46C0-AD99-800B3013904D
SUMMARY:3. M - Schularbeit
CREATED:20240402T071416Z
DTSTAMP:20240402T071416Z
URL:https://vspfaffenschlag.ac.at/index.php/termine/3-m-schularbeit
LAST-MODIFIED:20240402T105103Z
SEQUENCE:13007
X-ACCESS:1
X-HITS:3
X-COLOR:b69fb4
X-SHOW-END-TIME:0
END:VEVENT
BEGIN:VEVENT
DTSTART;TZID=UTC:20240419T071000
DTEND;TZID=UTC:20240419T081000
UID:29E24100-A45C-45BB-870F-64C5D3E527FE
SUMMARY:IKM+ Deutsch 3. & 4. Schulstufe
CREATED:20240418T061244Z
DTSTAMP:20240418T061244Z
URL:https://vspfaffenschlag.ac.at/index.php/termine/ikm-deutsch-3-4-schulstufe
LAST-MODIFIED:20240418T061358Z
SEQUENCE:74
X-ACCESS:1
X-HITS:2
X-COLOR:b69fb4
X-SHOW-END-TIME:0
END:VEVENT
BEGIN:VEVENT
DTSTART;TZID=UTC:20240422T071000
DTEND;TZID=UTC:20240422T081000
UID:A30E70BB-FA9A-463F-A45C-4676AA63E317
SUMMARY:IKM+ Mathematik 4. Schulstufe
CREATED:20240418T061346Z
DTSTAMP:20240418T061346Z
URL:https://vspfaffenschlag.ac.at/index.php/termine/ikm-mathematik-4-schulstufe
X-ACCESS:1
X-HITS:2
X-COLOR:b69fb4
X-SHOW-END-TIME:0
END:VEVENT
BEGIN:VEVENT
DTSTART;TZID=UTC:20240424T071000
DTEND;TZID=UTC:20240424T081000
UID:6D3A3468-DE32-4BCA-9202-FC95E019F40C
SUMMARY:IKM+ Mathematik 3. Schulstufe
CREATED:20240418T061455Z
DTSTAMP:20240418T061455Z
URL:https://vspfaffenschlag.ac.at/index.php/termine/ikm-mathematik-3-schulstufe
X-ACCESS:1
X-HITS:2
X-COLOR:b69fb4
X-SHOW-END-TIME:0
END:VEVENT
BEGIN:VEVENT
DTSTART;TZID=UTC:20240424T091000
DTEND;TZID=UTC:20240424T101000
UID:CCC7394C-F1FE-4DA3-9083-04CA77E3FD4D
SUMMARY:Radfahrprüfung
CREATED:20240402T072050Z
DTSTAMP:20240402T072050Z
URL:https://vspfaffenschlag.ac.at/index.php/termine/radfahrpruefung
LAST-MODIFIED:20240402T105132Z
SEQUENCE:12642
X-ACCESS:1
X-HITS:2
X-COLOR:b69fb4
X-SHOW-END-TIME:0
END:VEVENT
BEGIN:VEVENT
DTSTART;TZID=UTC:20240425T071000
DTEND;TZID=UTC:20240425T081000
UID:948A8046-8034-4877-90A5-B2164C885072
SUMMARY:IKM+ Deutsch-Zyklus 4. Schulstufe
CREATED:20240418T061535Z
DTSTAMP:20240418T061535Z
URL:https://vspfaffenschlag.ac.at/index.php/termine/ikm-deutsch-zyklus-4-schulstufe
X-ACCESS:1
X-HITS:2
X-COLOR:b69fb4
X-SHOW-END-TIME:0
END:VEVENT
BEGIN:VEVENT
DTSTART;TZID=UTC:20240610T071000
DTEND;TZID=UTC:20240610T081000
UID:92211C89-C474-454C-B97F-4912B1439A9C
SUMMARY:4. M - Schularbeit 🎒
CREATED:20240604T093736Z
DTSTAMP:20240604T093736Z
URL:https://vspfaffenschlag.ac.at/index.php/termine/4-m-schularbeit
LAST-MODIFIED:20240604T093747Z
SEQUENCE:11
X-ACCESS:1
X-HITS:2
X-COLOR:b69fb4
X-SHOW-END-TIME:0
END:VEVENT
BEGIN:VEVENT
DTSTART;TZID=UTC:20241023T073000
DTEND;TZID=UTC:20241023T083000
UID:394973DA-7B8A-4715-92FD-5EC25A7E731F
SUMMARY:Radfahrprüfung 4. Stufe🚴‍♂️
CREATED:20241022T051143Z
DTSTAMP:20241022T051143Z
URL:https://vspfaffenschlag.ac.at/index.php/termine/radfahrpruefung-4-stufe
LAST-MODIFIED:20241022T051143Z
SEQUENCE:0
X-ACCESS:1
X-HITS:3
X-COLOR:b69fb4
X-SHOW-END-TIME:0
END:VEVENT
BEGIN:VEVENT
DTSTART;TZID=UTC:20241210T071000
DTEND;TZID=UTC:20241210T081000
UID:1C66DC9D-1094-4315-B2A2-F3FFBC8B6760
SUMMARY:2. M - Schularbeit 🔢
CREATED:20241202T065851Z
DTSTAMP:20241202T065851Z
URL:https://vspfaffenschlag.ac.at/index.php/termine/2-m-schularbeit
LAST-MODIFIED:20241202T065905Z
SEQUENCE:14
X-ACCESS:1
X-HITS:2
X-COLOR:b69fb4
X-SHOW-END-TIME:0
END:VEVENT
BEGIN:VEVENT
DTSTART;VALUE=DATE:20250311
DTEND;VALUE=DATE:20250312
UID:E44E048B-9523-4479-AA7E-50668C111763
SUMMARY:3. M - Schularbeit 🔢
CREATED:20250218T090505Z
DTSTAMP:20250218T090505Z
URL:https://vspfaffenschlag.ac.at/index.php/termine/3-m-schularbeit-2
LAST-MODIFIED:20250218T090505Z
SEQUENCE:0
X-ACCESS:1
X-HITS:3
X-COLOR:b69fb4
X-SHOW-END-TIME:0
END:VEVENT
BEGIN:VEVENT
DTSTART;VALUE=DATE:20250402
DTEND;VALUE=DATE:20250403
UID:0E7B68A0-5255-4602-B8B0-92CA8A05E315
SUMMARY:3. D - Schularbeit 🔤
CREATED:20250218T090608Z
DTSTAMP:20250218T090608Z
URL:https://vspfaffenschlag.ac.at/index.php/termine/3-d-schularbeit
LAST-MODIFIED:20250218T090801Z
SEQUENCE:113
X-ACCESS:1
X-HITS:4
X-COLOR:b69fb4
X-SHOW-END-TIME:0
END:VEVENT
BEGIN:VEVENT
DTSTART;VALUE=DATE:20250513
DTEND;VALUE=DATE:20250514
UID:A11E45AD-9259-4C05-B18F-2368C7EDBAF2
SUMMARY:4. M - Schularbeit 🔢
CREATED:20250218T090700Z
DTSTAMP:20250218T090700Z
URL:https://vspfaffenschlag.ac.at/index.php/termine/4-m-schularbeit-2
LAST-MODIFIED:20250218T090700Z
SEQUENCE:0
X-ACCESS:1
X-HITS:1
X-COLOR:b69fb4
X-SHOW-END-TIME:0
END:VEVENT
BEGIN:VEVENT
DTSTART;VALUE=DATE:20250605
DTEND;VALUE=DATE:20250606
UID:27862F5B-4000-45C2-88BC-86C9DF202E39
SUMMARY:4. D - Schularbeit 🔤
CREATED:20250218T090742Z
DTSTAMP:20250218T090742Z
URL:https://vspfaffenschlag.ac.at/index.php/termine/4-d-schularbeit
LAST-MODIFIED:20250218T090742Z
SEQUENCE:0
X-ACCESS:1
X-HITS:9
X-COLOR:b69fb4
X-SHOW-END-TIME:0
END:VEVENT
BEGIN:VEVENT
DTSTART;TZID=UTC:20251009T073000
DTEND;TZID=UTC:20251009T083000
UID:D53ED07B-E962-4E06-BC29-DC8DD88E5913
SUMMARY:theoretische Radfahrprüfung 🚲👮
CREATED:20250923T052017Z
DTSTAMP:20250923T052017Z
URL:https://vspfaffenschlag.ac.at/index.php/termine/theoretische-fahrradpruefung
LAST-MODIFIED:20250923T052118Z
SEQUENCE:61
X-ACCESS:1
X-HITS:5
X-COLOR:b69fb4
X-SHOW-END-TIME:0
END:VEVENT
BEGIN:VEVENT
DTSTART;TZID=UTC:20251022T071000
DTEND;TZID=UTC:20251022T081000
UID:5906EF5A-DD3D-494E-A004-75947453308F
SUMMARY:1. D - Schularbeit 🔤
CREATED:20250908T061255Z
DTSTAMP:20250908T061255Z
URL:https://vspfaffenschlag.ac.at/index.php/termine/1-d-schularbeit
LAST-MODIFIED:20250908T062439Z
SEQUENCE:704
X-ACCESS:1
X-HITS:7
X-COLOR:b69fb4
X-SHOW-END-TIME:0
END:VEVENT
BEGIN:VEVENT
DTSTART;TZID=UTC:20251023T073000
DTEND;TZID=UTC:20251023T083000
UID:FB96A2DF-07CF-4A16-8BEF-DA26D630FDA4
SUMMARY:praktische Fahrradprüfung 🚲 & Verkehrs- und Mobilitätsbildung👮‍♀️
CREATED:20250916T072631Z
DTSTAMP:20250916T072631Z
URL:https://vspfaffenschlag.ac.at/index.php/termine/praktische-fahrradpruefung
LAST-MODIFIED:20250916T115649Z
SEQUENCE:16218
X-ACCESS:1
X-HITS:5
X-COLOR:b69fb4
X-SHOW-END-TIME:0
END:VEVENT
BEGIN:VEVENT
DTSTART;TZID=UTC:20251112T071000
DTEND;TZID=UTC:20251112T081000
UID:6354EBA7-8EB1-4A5F-9887-014BD09855E8
SUMMARY:1. M - Schularbeit 🔢
CREATED:20250908T061435Z
DTSTAMP:20250908T061435Z
URL:https://vspfaffenschlag.ac.at/index.php/termine/1-m-schularbeit
LAST-MODIFIED:20250908T061435Z
SEQUENCE:0
X-ACCESS:1
X-HITS:5
X-COLOR:b69fb4
X-SHOW-END-TIME:0
END:VEVENT
BEGIN:VEVENT
DTSTART;TZID=UTC:20251217T071000
DTEND;TZID=UTC:20251217T081000
UID:33CDEEBC-6E19-47F6-A395-46923852EB90
SUMMARY:2. D - Schularbeit 🔤
CREATED:20250908T061737Z
DTSTAMP:20250908T061737Z
URL:https://vspfaffenschlag.ac.at/index.php/termine/2-d-schularbeit
LAST-MODIFIED:20250908T061737Z
SEQUENCE:0
X-ACCESS:1
X-HITS:3
X-COLOR:b69fb4
X-SHOW-END-TIME:0
END:VEVENT
BEGIN:VEVENT
DTSTART;TZID=UTC:20260114T071000
DTEND;TZID=UTC:20260114T081000
UID:0E7A189E-E6B1-4183-BBE4-E82B1D80DF54
SUMMARY:2. M - Schularbeit 🔢
CREATED:20250908T061826Z
DTSTAMP:20250908T061826Z
URL:https://vspfaffenschlag.ac.at/index.php/termine/2-m-schularbeit-2
LAST-MODIFIED:20250908T061826Z
SEQUENCE:0
X-ACCESS:1
X-HITS:3
X-COLOR:b69fb4
X-SHOW-END-TIME:0
END:VEVENT
BEGIN:VEVENT
DTSTART;VALUE=DATE:20260318
DTEND;VALUE=DATE:20260319
UID:0480B449-8B62-445E-A3E5-DA56D142A973
SUMMARY:3. D - Schularbeit 🔠
CREATED:20260210T083323Z
DTSTAMP:20260210T083323Z
URL:https://vspfaffenschlag.ac.at/index.php/termine/3-d-schularbeit-2
LAST-MODIFIED:20260210T083323Z
SEQUENCE:0
X-ACCESS:1
X-HITS:1
X-COLOR:b69fb4
X-SHOW-END-TIME:0
END:VEVENT
BEGIN:VEVENT
DTSTART;VALUE=DATE:20260415
DTEND;VALUE=DATE:20260416
UID:2CDE1423-69F9-4335-83A8-87CADAE0BBE0
SUMMARY:3. M - Schularbeit 🔢
CREATED:20260210T083428Z
DTSTAMP:20260210T083428Z
URL:https://vspfaffenschlag.ac.at/index.php/termine/3-m-schularbeit-3
LAST-MODIFIED:20260210T083428Z
SEQUENCE:0
X-ACCESS:1
X-HITS:3
X-COLOR:b69fb4
X-SHOW-END-TIME:0
END:VEVENT
BEGIN:VEVENT
DTSTART;VALUE=DATE:20260520
DTEND;VALUE=DATE:20260521
UID:32DE1A89-D3C3-40BC-A3E2-6D5E05B88762
SUMMARY:4. D - Schularbeit 🔠
CREATED:20260210T083353Z
DTSTAMP:20260210T083353Z
URL:https://vspfaffenschlag.ac.at/index.php/termine/4-d-schularbeit-2
LAST-MODIFIED:20260210T083353Z
SEQUENCE:0
X-ACCESS:1
X-HITS:1
X-COLOR:b69fb4
X-SHOW-END-TIME:0
END:VEVENT
BEGIN:VEVENT
DTSTART;VALUE=DATE:20260603
DTEND;VALUE=DATE:20260604
UID:BD863B12-FF9B-4D4F-A455-6FB95B9476D7
SUMMARY:4. M - Schularbeit 🔢
CREATED:20260210T083457Z
DTSTAMP:20260210T083457Z
URL:https://vspfaffenschlag.ac.at/index.php/termine/4-m-schularbeit-3
LAST-MODIFIED:20260210T083457Z
SEQUENCE:0
X-ACCESS:1
X-HITS:1
X-COLOR:b69fb4
X-SHOW-END-TIME:0
END:VEVENT
END:VCALENDAR