BEGIN:VCALENDAR
VERSION:2.0
PRODID:DPCALENDAR
CALSCALE:GREGORIAN
X-WR-TIMEZONE:UTC
BEGIN:VEVENT
DTSTART;TZID=UTC:20240409T100000
DTEND;TZID=UTC:20240409T110000
UID:ABA32FA2-4DF1-4196-A379-948A112B2646
SUMMARY:Wakany - die Berufefee
CREATED:20240402T071928Z
DTSTAMP:20240402T071928Z
URL:https://vspfaffenschlag.ac.at/index.php/termine/wakany-die-berufefee
LAST-MODIFIED:20240402T110155Z
SEQUENCE:13347
X-ACCESS:1
X-HITS:3
X-COLOR:d7b6c2
X-SHOW-END-TIME:0
END:VEVENT
BEGIN:VEVENT
DTSTART;TZID=UTC:20240423T070000
DTEND;TZID=UTC:20240423T080000
UID:B0EE6107-E2DA-4178-99B5-6BC55CB89DF5
SUMMARY:Sumsi Rasen - Cup
CREATED:20240402T072020Z
DTSTAMP:20240402T072020Z
URL:https://vspfaffenschlag.ac.at/index.php/termine/sumsi-rasen-cup
LAST-MODIFIED:20240402T110205Z
SEQUENCE:13305
X-ACCESS:1
X-HITS:2
X-COLOR:d7b6c2
X-SHOW-END-TIME:0
END:VEVENT
BEGIN:VEVENT
DTSTART;TZID=UTC:20240429T070000
DTEND;TZID=UTC:20240429T080000
UID:5A531A0F-A31D-4546-8572-7583727D07DA
SUMMARY:Workshop "Abfallverband Waidhofen/Th"
CREATED:20240402T072147Z
DTSTAMP:20240402T072147Z
URL:https://vspfaffenschlag.ac.at/index.php/termine/workshop-abfallverband-waidhofen-th
LAST-MODIFIED:20240404T071611Z
SEQUENCE:172464
X-ACCESS:1
X-HITS:4
X-COLOR:d7b6c2
X-SHOW-END-TIME:0
END:VEVENT
BEGIN:VEVENT
DTSTART;TZID=UTC:20240430T070000
DTEND;TZID=UTC:20240430T110000
UID:EEF740CB-88F6-4C5C-9B48-F351702370CE
SUMMARY:Musical "Alice im Wunderland"
CREATED:20240402T072219Z
DTSTAMP:20240402T072219Z
URL:https://vspfaffenschlag.ac.at/index.php/termine/musical-alice-im-wunderland
LAST-MODIFIED:20240402T110216Z
SEQUENCE:13197
X-ACCESS:1
X-HITS:3
X-COLOR:d7b6c2
X-SHOW-END-TIME:0
END:VEVENT
BEGIN:VEVENT
DTSTART;TZID=UTC:20240519T090000
DTEND;TZID=UTC:20240519T100000
UID:AF04536B-39E0-4B28-B987-92A8B25E5F33
SUMMARY:Erstkommunion ✝️
CREATED:20240404T065937Z
DTSTAMP:20240404T065937Z
URL:https://vspfaffenschlag.ac.at/index.php/termine/erstkommunion
LAST-MODIFIED:20240514T103712Z
SEQUENCE:3469055
X-ACCESS:1
X-HITS:2
X-COLOR:d7b6c2
X-SHOW-END-TIME:0
END:VEVENT
BEGIN:VEVENT
DTSTART;TZID=UTC:20240524T070000
DTEND;TZID=UTC:20240524T143000
UID:8F635AD3-2A4E-4AA7-BBBF-2D4F52A4F3E4
SUMMARY:Safety Tour 🏆
CREATED:20240404T070024Z
DTSTAMP:20240404T070024Z
URL:https://vspfaffenschlag.ac.at/index.php/termine/safety-tour
DESCRIPTION:Bauhofhalle\NWultschau 42\N3970 Moorbad-Haarbach
X-ALT-DESC;FMTTYPE=text/html:<p class="ng-scope">Bauhofhalle</p><p class="ng-scope">Wultschau 42</p><p class="ng-scope">3970 Moorbad-Haarbach</p>
LAST-MODIFIED:20240521T060244Z
SEQUENCE:4057340
X-ACCESS:1
X-HITS:3
X-COLOR:d7b6c2
X-SHOW-END-TIME:1
END:VEVENT
BEGIN:VEVENT
DTSTART;TZID=UTC:20240606T060500
DTEND;TZID=UTC:20240606T161500
UID:C9CE0EFB-0292-4239-8AD1-B5558AEAE6AC
SUMMARY:Safety Tour in Klosterneuburg🏆
CREATED:20240604T093828Z
DTSTAMP:20240604T093828Z
URL:https://vspfaffenschlag.ac.at/index.php/termine/safety-tour-in-klosterneuburg
LAST-MODIFIED:20240604T093828Z
SEQUENCE:0
X-ACCESS:1
X-HITS:3
X-COLOR:d7b6c2
X-SHOW-END-TIME:1
END:VEVENT
BEGIN:VEVENT
DTSTART;TZID=UTC:20240614T071000
DTEND;TZID=UTC:20240614T081000
UID:835750A6-1EDA-4FF2-826E-6C3D7986BEEA
SUMMARY:Biobäuerinnen 3.&4. Schulstufe
CREATED:20240404T070312Z
DTSTAMP:20240404T070312Z
URL:https://vspfaffenschlag.ac.at/index.php/termine/biobaeuerinnen-3-4-schulstufe
X-ACCESS:1
X-HITS:2
X-COLOR:d7b6c2
X-SHOW-END-TIME:0
END:VEVENT
BEGIN:VEVENT
DTSTART;TZID=UTC:20240618T071000
DTEND;TZID=UTC:20240618T081000
UID:10E35A4B-6F3C-475A-A5A8-D54F14DD5DC6
SUMMARY:Ausflug nach Nagelberg
CREATED:20240514T103050Z
DTSTAMP:20240514T103050Z
URL:https://vspfaffenschlag.ac.at/index.php/termine/ausflug-nach-nagelberg
X-ACCESS:1
X-HITS:2
X-COLOR:d7b6c2
X-SHOW-END-TIME:0
END:VEVENT
BEGIN:VEVENT
DTSTART;TZID=UTC:20240910T090000
DTEND;TZID=UTC:20240910T100000
UID:63772B83-5670-4F15-A773-844B9B09C1AE
SUMMARY:Besuch der Jäger 🌲
CREATED:20240906T091648Z
DTSTAMP:20240906T091648Z
URL:https://vspfaffenschlag.ac.at/index.php/termine/besuch-der-jaeger
LAST-MODIFIED:20240906T091648Z
SEQUENCE:0
X-ACCESS:1
X-HITS:3
X-COLOR:d7b6c2
X-SHOW-END-TIME:0
END:VEVENT
BEGIN:VEVENT
DTSTART;TZID=UTC:20241002T080000
DTEND;TZID=UTC:20241002T110000
UID:038B3979-7824-4ACE-8DC2-3B375F464EAD
SUMMARY:Achtsamkeitsstunde mit Sonja Appel
CREATED:20240910T093628Z
DTSTAMP:20240910T093628Z
URL:https://vspfaffenschlag.ac.at/index.php/termine/achtsamkeitsstunde-mit-sonja-appel
DESCRIPTION:für alle Schulstufen
X-ALT-DESC;FMTTYPE=text/html:<p>für alle Schulstufen</p>
LAST-MODIFIED:20240910T093637Z
SEQUENCE:9
X-ACCESS:1
X-HITS:14
X-COLOR:d7b6c2
X-SHOW-END-TIME:0
END:VEVENT
BEGIN:VEVENT
DTSTART;TZID=UTC:20241006T093000
DTEND;TZID=UTC:20241006T103000
UID:CB7810DB-2FFF-411F-A80C-753DC469A6DF
SUMMARY:Erntedankfeier im Gemeindesaal 🍎
CREATED:20240910T090837Z
DTSTAMP:20240910T090837Z
URL:https://vspfaffenschlag.ac.at/index.php/termine/erntedankfeier-im-gemeindesaal
LAST-MODIFIED:20240910T090859Z
SEQUENCE:22
X-ACCESS:1
X-HITS:13
X-COLOR:d7b6c2
X-SHOW-END-TIME:0
END:VEVENT
BEGIN:VEVENT
DTSTART;TZID=UTC:20241023T080000
DTEND;TZID=UTC:20241023T090000
UID:EF6EFA69-2E47-4053-B7FD-CB7F62C922B9
SUMMARY:Ausflug Moor 🍂🌲
CREATED:20241022T051249Z
DTSTAMP:20241022T051249Z
URL:https://vspfaffenschlag.ac.at/index.php/termine/ausflug-moor
LAST-MODIFIED:20241022T051249Z
SEQUENCE:0
X-ACCESS:1
X-HITS:2
X-COLOR:d7b6c2
X-SHOW-END-TIME:0
END:VEVENT
BEGIN:VEVENT
DTSTART;TZID=UTC:20241111T163000
DTEND;TZID=UTC:20241111T173000
UID:73BC83E7-EFF9-4A2E-B9B8-E55B231A8EFA
SUMMARY:Martinsfeier im Gemeindesaal 🏇🥐
CREATED:20241022T051524Z
DTSTAMP:20241022T051524Z
URL:https://vspfaffenschlag.ac.at/index.php/termine/martinsfeier-im-gemeindesaal
LAST-MODIFIED:20241022T051524Z
SEQUENCE:0
X-ACCESS:1
X-HITS:5
X-COLOR:d7b6c2
X-SHOW-END-TIME:0
END:VEVENT
BEGIN:VEVENT
DTSTART;TZID=UTC:20241224T160000
DTEND;TZID=UTC:20241224T170000
UID:273B4B68-B337-49E2-9A4E-0468CD3BFE7B
SUMMARY:Kindermette 🎄⛪
CREATED:20241011T062155Z
DTSTAMP:20241011T062155Z
URL:https://vspfaffenschlag.ac.at/index.php/termine/kindermette
DESCRIPTION:In der Pfarrkirche Pfaffenschlag!
X-ALT-DESC;FMTTYPE=text/html:<p>In der Pfarrkirche Pfaffenschlag!</p>
LAST-MODIFIED:20241011T062223Z
SEQUENCE:28
X-ACCESS:1
X-HITS:5
X-COLOR:d7b6c2
X-SHOW-END-TIME:0
END:VEVENT
BEGIN:VEVENT
DTSTART;TZID=UTC:20250212T080000
DTEND;TZID=UTC:20250212T090000
UID:8FFA64C2-A115-48E5-957B-F9B11854036A
SUMMARY:Autor:innen Lesung mit Martin Selle und Susanne Knauss 📖
CREATED:20241001T093115Z
DTSTAMP:20241001T093115Z
URL:https://vspfaffenschlag.ac.at/index.php/termine/autor-innen-lesung-mit-martin-selle-und-susanne-knauss
LAST-MODIFIED:20241001T093115Z
SEQUENCE:0
X-ACCESS:1
X-HITS:8
X-COLOR:d7b6c2
X-SHOW-END-TIME:0
END:VEVENT
BEGIN:VEVENT
DTSTART;TZID=UTC:20250221T091000
DTEND;TZID=UTC:20250221T101000
UID:61BDDA1D-3BCA-4523-823E-FB518067CA42
SUMMARY:EVN Strom Workshop 🔌
CREATED:20250214T103312Z
DTSTAMP:20250214T103312Z
URL:https://vspfaffenschlag.ac.at/index.php/termine/evn-strom-workshop
LAST-MODIFIED:20250214T103325Z
SEQUENCE:13
X-ACCESS:1
X-HITS:3
X-COLOR:d7b6c2
X-SHOW-END-TIME:0
END:VEVENT
BEGIN:VEVENT
DTSTART;TZID=UTC:20250226T080000
DTEND;TZID=UTC:20250226T090000
UID:949641C8-B90F-40D9-9FB5-89D17170CE99
SUMMARY:Cheerleader - Workshop 🕺💃
CREATED:20250221T122937Z
DTSTAMP:20250221T122937Z
URL:https://vspfaffenschlag.ac.at/index.php/termine/cheerleader-workshop
LAST-MODIFIED:20250221T122937Z
SEQUENCE:0
X-ACCESS:1
X-HITS:5
X-COLOR:d7b6c2
X-SHOW-END-TIME:0
END:VEVENT
BEGIN:VEVENT
DTSTART;VALUE=DATE:20250305
DTEND;VALUE=DATE:20250307
UID:2E0C2BE5-79C1-4A51-BEC4-145020CAC2E7
SUMMARY:Ton Workshop 🎨🖌️
CREATED:20250221T114843Z
DTSTAMP:20250221T114843Z
URL:https://vspfaffenschlag.ac.at/index.php/termine/ton-workshop
LAST-MODIFIED:20250221T114908Z
SEQUENCE:25
X-ACCESS:1
X-HITS:5
X-COLOR:d7b6c2
X-SHOW-END-TIME:0
END:VEVENT
BEGIN:VEVENT
DTSTART;TZID=UTC:20250312T080000
DTEND;TZID=UTC:20250312T090000
UID:A0022C42-211F-472F-9537-8CD6447F46F9
SUMMARY:Workshop "Bühne frei für Klimaschutz" 🌍
CREATED:20241210T111620Z
DTSTAMP:20241210T111620Z
URL:https://vspfaffenschlag.ac.at/index.php/termine/workshop-buehne-frei-fuer-klimaschutz
LAST-MODIFIED:20241210T111620Z
SEQUENCE:0
X-ACCESS:1
X-HITS:4
X-COLOR:d7b6c2
X-SHOW-END-TIME:0
END:VEVENT
BEGIN:VEVENT
DTSTART;TZID=UTC:20250313T080000
DTEND;TZID=UTC:20250313T090000
UID:53A600C8-FCE3-46AF-BA74-FC226F815278
SUMMARY:Workshop "Bühne frei für Klimaschutz" 🌍
CREATED:20241210T111637Z
DTSTAMP:20241210T111637Z
URL:https://vspfaffenschlag.ac.at/index.php/termine/workshop-buehne-frei-fuer-klimaschutz-2
LAST-MODIFIED:20241210T111637Z
SEQUENCE:0
X-ACCESS:1
X-HITS:3
X-COLOR:d7b6c2
X-SHOW-END-TIME:0
END:VEVENT
BEGIN:VEVENT
DTSTART;TZID=UTC:20250328T130000
DTEND;TZID=UTC:20250328T140000
UID:4F643A01-4A97-41E7-81F8-45E716817E33
SUMMARY:Puppentheater 🪆
CREATED:20250321T063753Z
DTSTAMP:20250321T063753Z
URL:https://vspfaffenschlag.ac.at/index.php/termine/puppentheater
LAST-MODIFIED:20250321T063753Z
SEQUENCE:0
X-ACCESS:1
X-HITS:11
X-COLOR:d7b6c2
X-SHOW-END-TIME:0
END:VEVENT
BEGIN:VEVENT
DTSTART;TZID=UTC:20250409T080000
DTEND;TZID=UTC:20250409T090000
UID:B701C7D9-22C2-4F0F-A7E2-496DDF0624DA
SUMMARY:Erste-Hilfe-Kurs 🚑
CREATED:20250218T085051Z
DTSTAMP:20250218T085051Z
URL:https://vspfaffenschlag.ac.at/index.php/termine/erste-hilfe-kurs
LAST-MODIFIED:20250218T085107Z
SEQUENCE:16
X-ACCESS:1
X-HITS:7
X-COLOR:d7b6c2
X-SHOW-END-TIME:0
END:VEVENT
BEGIN:VEVENT
DTSTART;TZID=UTC:20250411T073000
DTEND;TZID=UTC:20250411T083000
UID:B38EC582-A5D2-4402-A6A5-FDF18AE38CE8
SUMMARY:Osterfrühstück 🥚🐥
CREATED:20250404T102107Z
DTSTAMP:20250404T102107Z
URL:https://vspfaffenschlag.ac.at/index.php/termine/osterfruehstueck
LAST-MODIFIED:20250404T102107Z
SEQUENCE:0
X-ACCESS:1
X-HITS:4
X-COLOR:d7b6c2
X-SHOW-END-TIME:0
END:VEVENT
BEGIN:VEVENT
DTSTART;TZID=UTC:20250424T080500
DTEND;TZID=UTC:20250424T090500
UID:7FE3425A-A312-4AC1-82C6-27068DFB2E5B
SUMMARY:Workshop Gesunde Schule "Fett" 1. Klasse 🥗
CREATED:20250131T102523Z
DTSTAMP:20250131T102523Z
URL:https://vspfaffenschlag.ac.at/index.php/termine/workshop-gesunde-schule-fett-1-klasse
LAST-MODIFIED:20250404T102152Z
SEQUENCE:5442989
X-ACCESS:1
X-HITS:2
X-COLOR:d7b6c2
X-SHOW-END-TIME:0
END:VEVENT
BEGIN:VEVENT
DTSTART;TZID=UTC:20250424T091000
DTEND;TZID=UTC:20250424T101000
UID:7EDDB6A8-F1C3-421E-8136-5DAFAB515291
SUMMARY:Workshop Gesunde Schule "Fett" 2. Klasse🥗
CREATED:20250131T102552Z
DTSTAMP:20250131T102552Z
URL:https://vspfaffenschlag.ac.at/index.php/termine/workshop-gesunde-schule-fett-2-klasse
LAST-MODIFIED:20250404T102203Z
SEQUENCE:5442971
X-ACCESS:1
X-HITS:2
X-COLOR:d7b6c2
X-SHOW-END-TIME:0
END:VEVENT
BEGIN:VEVENT
DTSTART;TZID=UTC:20250523T080000
DTEND;TZID=UTC:20250523T130000
UID:85C5A754-FD35-4C5C-B8D0-D52D84C4BB19
SUMMARY:Safety Tour in Pfaffenschlag 🦺🚨
CREATED:20250217T064814Z
DTSTAMP:20250217T064814Z
URL:https://vspfaffenschlag.ac.at/index.php/termine/safety-tour-in-pfaffenschlag
LAST-MODIFIED:20250217T064814Z
SEQUENCE:0
X-ACCESS:1
X-HITS:8
X-COLOR:d7b6c2
X-SHOW-END-TIME:1
END:VEVENT
BEGIN:VEVENT
DTSTART;TZID=UTC:20250606T070000
DTEND;TZID=UTC:20250606T150000
UID:D4EA75EE-5043-4F74-8827-D3405F822139
SUMMARY:Safety Tour - Landesfinale in Gars am Kamp ⛑️🚓
CREATED:20250527T101927Z
DTSTAMP:20250527T101927Z
URL:https://vspfaffenschlag.ac.at/index.php/termine/safety-tour-landesfinale-in-gars-am-kamp
LAST-MODIFIED:20250527T101937Z
SEQUENCE:10
X-ACCESS:1
X-HITS:3
X-COLOR:d7b6c2
X-SHOW-END-TIME:1
END:VEVENT
BEGIN:VEVENT
DTSTART;TZID=UTC:20250608T090000
DTEND;TZID=UTC:20250608T120000
UID:133D4634-AC47-4F57-ACEB-F27EB0C31BB0
SUMMARY:Erstkommunion 2025🫓
CREATED:20241010T082904Z
DTSTAMP:20241010T082904Z
URL:https://vspfaffenschlag.ac.at/index.php/termine/erstkommunion-2025
DESCRIPTION:Treffpunkt ab 09:00 Uhr vor der Schule, 09:20 Uhr feierliche Umzug zur Kirche mit Blasmusik\N 
X-ALT-DESC;FMTTYPE=text/html:<p>Treffpunkt ab 09:00 Uhr vor der Schule, 09:20 Uhr feierliche Umzug zur Kirche mit Blasmusik</p><p> </p>
LAST-MODIFIED:20250119T075044Z
SEQUENCE:8724100
X-ACCESS:1
X-HITS:7
X-COLOR:d7b6c2
X-SHOW-END-TIME:1
END:VEVENT
BEGIN:VEVENT
DTSTART;TZID=UTC:20250618T080000
DTEND;TZID=UTC:20250618T090000
UID:DDDA0272-7579-46E6-A4E0-A75CA66044E2
SUMMARY:Aufführung "Bühne frei für Klimaschutz" in Pürbach 🎤🎧
CREATED:20250307T064239Z
DTSTAMP:20250307T064239Z
URL:https://vspfaffenschlag.ac.at/index.php/termine/auffuehrung-buehne-frei-fuer-klimaschutz-in-puerbach
LAST-MODIFIED:20250307T064239Z
SEQUENCE:0
X-ACCESS:1
X-HITS:46
X-COLOR:d7b6c2
X-SHOW-END-TIME:0
END:VEVENT
BEGIN:VEVENT
DTSTART;TZID=UTC:20250909T090000
DTEND;TZID=UTC:20250909T100000
UID:B34262BA-578E-4D3F-A098-1958A4908F6F
SUMMARY:Kartoffelernte/Wandertag 🥔🥾
CREATED:20250908T060842Z
DTSTAMP:20250908T060842Z
URL:https://vspfaffenschlag.ac.at/index.php/termine/kartoffelernte-wandertag
LAST-MODIFIED:20250908T060842Z
SEQUENCE:0
X-ACCESS:1
X-HITS:3
X-COLOR:d7b6c2
X-SHOW-END-TIME:0
END:VEVENT
BEGIN:VEVENT
DTSTART;TZID=UTC:20250915T081500
DTEND;TZID=UTC:20250915T091500
UID:3D2D26A2-E958-437F-BE9F-481B2F4D61DF
SUMMARY:Hallo Auto 🚗
CREATED:20250523T045412Z
DTSTAMP:20250523T045412Z
URL:https://vspfaffenschlag.ac.at/index.php/termine/hallo-auto
LAST-MODIFIED:20250523T045412Z
SEQUENCE:0
X-ACCESS:1
X-HITS:13
X-COLOR:d7b6c2
X-SHOW-END-TIME:0
END:VEVENT
BEGIN:VEVENT
DTSTART;TZID=UTC:20251005T093000
DTEND;TZID=UTC:20251005T103000
UID:2C9BEF7A-6EBD-4EF1-B656-E81DEA81FC40
SUMMARY:Erntedankfeier im Gemeindesaal 🍎
CREATED:20250908T061025Z
DTSTAMP:20250908T061025Z
URL:https://vspfaffenschlag.ac.at/index.php/termine/erntedankfeier-im-gemeindesaal-2
LAST-MODIFIED:20250908T061025Z
SEQUENCE:0
X-ACCESS:1
X-HITS:5
X-COLOR:d7b6c2
X-SHOW-END-TIME:0
END:VEVENT
BEGIN:VEVENT
DTSTART;TZID=UTC:20251015T071000
DTEND;TZID=UTC:20251015T081000
UID:CD87BF10-A095-4AF2-8013-466BF4D60428
SUMMARY:Exkursion Landeshauptstadt 3. & 4. Klasse 🏙️
CREATED:20250908T061223Z
DTSTAMP:20250908T061223Z
URL:https://vspfaffenschlag.ac.at/index.php/termine/exkursion-landeshauptstadt-3-4-klasse
LAST-MODIFIED:20250908T062428Z
SEQUENCE:725
X-ACCESS:1
X-HITS:12
X-COLOR:d7b6c2
X-SHOW-END-TIME:0
END:VEVENT
BEGIN:VEVENT
DTSTART;TZID=UTC:20251104T073000
DTEND;TZID=UTC:20251104T083000
UID:2DC425D0-1868-4E7A-84D0-7EF46FE8A688
SUMMARY:Radworkshop Easy Drivers 🚴🚲
CREATED:20251010T054637Z
DTSTAMP:20251010T054637Z
URL:https://vspfaffenschlag.ac.at/index.php/termine/radworkshop-easy-drivers-2
LAST-MODIFIED:20251010T054653Z
SEQUENCE:16
X-ACCESS:1
X-HITS:7
X-COLOR:d7b6c2
X-SHOW-END-TIME:0
END:VEVENT
BEGIN:VEVENT
DTSTART;TZID=UTC:20251111T163000
DTEND;TZID=UTC:20251111T173000
UID:DF5D9EAF-E423-4E8C-A01F-BABFE139E1AC
SUMMARY:Martinsfeier im Gemeindesaal 🏇🥐
CREATED:20251111T100453Z
DTSTAMP:20251111T100453Z
URL:https://vspfaffenschlag.ac.at/index.php/termine/martinsfeier-im-gemeindesaal-2
LAST-MODIFIED:20251111T100453Z
SEQUENCE:0
X-ACCESS:1
X-HITS:1
X-COLOR:d7b6c2
X-SHOW-END-TIME:0
END:VEVENT
BEGIN:VEVENT
DTSTART;VALUE=DATE:20251115
DTEND;VALUE=DATE:20251116
UID:D7745885-2278-4040-ACF7-0341490C3D6F
SUMMARY:1. Kinder-Landesfeiertag 🧒🏻👶🏻
CREATED:20251104T065904Z
DTSTAMP:20251104T065904Z
URL:https://vspfaffenschlag.ac.at/index.php/termine/1-kinder-landesfeiertag
LAST-MODIFIED:20251104T065904Z
SEQUENCE:0
X-ACCESS:1
X-HITS:4
X-COLOR:d7b6c2
X-SHOW-END-TIME:0
END:VEVENT
BEGIN:VEVENT
DTSTART;TZID=UTC:20251126T173000
DTEND;TZID=UTC:20251126T183000
UID:6381B60C-2A1F-4957-BE4F-EBF1818356F4
SUMMARY:Abendveranstaltung "Digital Überall"- Feuerwehrhaus Pfaffenschlag 💻📱
CREATED:20251017T100313Z
DTSTAMP:20251017T100313Z
URL:https://vspfaffenschlag.ac.at/index.php/termine/abendveranstaltung-digital-ueberall-gemeindesaal-pfaffenschlag
LAST-MODIFIED:20251111T120600Z
SEQUENCE:2167367
X-ACCESS:1
X-HITS:2
X-COLOR:d7b6c2
X-SHOW-END-TIME:0
END:VEVENT
BEGIN:VEVENT
DTSTART;TZID=UTC:20251204T080000
DTEND;TZID=UTC:20251204T090000
UID:B2033708-5FA4-418E-86AE-A3A5D1CB3157
SUMMARY:Salbenworkshop 2.Klasse mit Sonja Appel 🌻
CREATED:20250930T064416Z
DTSTAMP:20250930T064416Z
URL:https://vspfaffenschlag.ac.at/index.php/termine/salbenworkshop-mit-sonja-appel
LAST-MODIFIED:20250930T064504Z
SEQUENCE:48
X-ACCESS:1
X-HITS:7
X-COLOR:d7b6c2
X-SHOW-END-TIME:0
END:VEVENT
BEGIN:VEVENT
DTSTART;TZID=UTC:20251205T080000
DTEND;TZID=UTC:20251205T090000
UID:C568281C-EEB0-4679-A380-2AB69641B7CE
SUMMARY:Salbenworkshop 1. Klasse mit Sonja Appel 🌻
CREATED:20250930T064416Z
DTSTAMP:20250930T064416Z
URL:https://vspfaffenschlag.ac.at/index.php/termine/salbenworkshop-mit-sonja-appel-2
LAST-MODIFIED:20250930T064515Z
SEQUENCE:59
X-ACCESS:1
X-HITS:2
X-COLOR:d7b6c2
X-SHOW-END-TIME:0
END:VEVENT
BEGIN:VEVENT
DTSTART;TZID=UTC:20251206T150000
DTEND;TZID=UTC:20251206T160000
UID:0CFA2874-419A-4AD7-91DF-11B0750877C6
SUMMARY:Nikolausfeier am Sportplatz 🎅
CREATED:20251003T113142Z
DTSTAMP:20251003T113142Z
URL:https://vspfaffenschlag.ac.at/index.php/termine/nikolausfeier-am-sportplatz
LAST-MODIFIED:20251120T062721Z
SEQUENCE:4128939
X-ACCESS:1
X-HITS:5
X-COLOR:d7b6c2
X-SHOW-END-TIME:0
END:VEVENT
BEGIN:VEVENT
DTSTART;TZID=UTC:20251223T070000
DTEND;TZID=UTC:20251223T080000
UID:D075E28C-D72D-4808-8BD7-69CE3BD550B2
SUMMARY:Fahrt ins Kino 🎥🎞️
CREATED:20251017T055806Z
DTSTAMP:20251017T055806Z
URL:https://vspfaffenschlag.ac.at/index.php/termine/fahrt-ins-kino
LAST-MODIFIED:20251017T055806Z
SEQUENCE:0
X-ACCESS:1
X-HITS:5
X-COLOR:d7b6c2
X-SHOW-END-TIME:0
END:VEVENT
BEGIN:VEVENT
DTSTART;TZID=UTC:20260121T080000
DTEND;TZID=UTC:20260121T110000
UID:E25A6EE0-47F0-44A7-AFC0-55F441581154
SUMMARY:Eislaufen in Waidhofen/Th ⛸️🥶
CREATED:20260113T070908Z
DTSTAMP:20260113T070908Z
URL:https://vspfaffenschlag.ac.at/index.php/termine/eislaufen-in-waidhofen-th
LAST-MODIFIED:20260113T070908Z
SEQUENCE:0
X-ACCESS:1
X-HITS:1
X-COLOR:d7b6c2
X-SHOW-END-TIME:0
END:VEVENT
BEGIN:VEVENT
DTSTART;TZID=UTC:20260129T080000
DTEND;TZID=UTC:20260129T090000
UID:991D55B6-5643-43A4-896D-A0C83328C795
SUMMARY:Schulkino 🎥🎞️
CREATED:20250925T101032Z
DTSTAMP:20250925T101032Z
URL:https://vspfaffenschlag.ac.at/index.php/termine/schulkino
LAST-MODIFIED:20250925T101032Z
SEQUENCE:0
X-ACCESS:1
X-HITS:2
X-COLOR:d7b6c2
X-SHOW-END-TIME:0
END:VEVENT
BEGIN:VEVENT
DTSTART;TZID=UTC:20260130T080000
DTEND;TZID=UTC:20260130T090000
UID:FB605183-2579-418C-816B-3885275EF1F2
SUMMARY:Schulkino 🎥🎞️
CREATED:20250925T101032Z
DTSTAMP:20250925T101032Z
URL:https://vspfaffenschlag.ac.at/index.php/termine/schulkino-2
LAST-MODIFIED:20250925T101040Z
SEQUENCE:8
X-ACCESS:1
X-HITS:2
X-COLOR:d7b6c2
X-SHOW-END-TIME:0
END:VEVENT
BEGIN:VEVENT
DTSTART;TZID=UTC:20260224T100000
DTEND;TZID=UTC:20260224T110000
UID:1126DCAC-1767-4102-91E8-7B5C2C9FF516
SUMMARY:EVN-Workshop 3. & 4. Stufe 🔌⚡
CREATED:20260224T083206Z
DTSTAMP:20260224T083206Z
URL:https://vspfaffenschlag.ac.at/index.php/termine/evn-workshop-3-4-stufe
LAST-MODIFIED:20260224T083206Z
SEQUENCE:0
X-ACCESS:1
X-HITS:1
X-COLOR:d7b6c2
X-SHOW-END-TIME:0
END:VEVENT
BEGIN:VEVENT
DTSTART;TZID=UTC:20260317T091500
DTEND;TZID=UTC:20260317T101500
UID:071F856E-3B2D-44B5-9576-ED8A8C9042BE
SUMMARY:Workshop Medien- und Handysucht 📱💻
CREATED:20260129T103436Z
DTSTAMP:20260129T103436Z
URL:https://vspfaffenschlag.ac.at/index.php/termine/workshop-medien-und-handysucht
LAST-MODIFIED:20260129T103500Z
SEQUENCE:24
X-ACCESS:1
X-HITS:4
X-COLOR:d7b6c2
X-SHOW-END-TIME:0
END:VEVENT
BEGIN:VEVENT
DTSTART;TZID=UTC:20260317T180000
DTEND;TZID=UTC:20260317T190000
UID:C261209B-C7CB-4363-8604-40626D8FC6FA
SUMMARY:Elternabend - Medien- und Handysucht📱💻
CREATED:20260210T060650Z
DTSTAMP:20260210T060650Z
URL:https://vspfaffenschlag.ac.at/index.php/termine/elternabend-medien-und-handysucht
LAST-MODIFIED:20260210T060711Z
SEQUENCE:21
X-ACCESS:1
X-HITS:5
X-COLOR:d7b6c2
X-SHOW-END-TIME:0
END:VEVENT
BEGIN:VEVENT
DTSTART;TZID=UTC:20260326T071000
DTEND;TZID=UTC:20260326T081000
UID:819B8459-25CC-4459-9618-67E88AAC809B
SUMMARY:Vorlesetag mit Senior:innen 📖
CREATED:20260225T073022Z
DTSTAMP:20260225T073022Z
URL:https://vspfaffenschlag.ac.at/index.php/termine/vorlesetag-mit-senioren
LAST-MODIFIED:20260225T073216Z
SEQUENCE:114
X-ACCESS:1
X-HITS:3
X-COLOR:d7b6c2
X-SHOW-END-TIME:0
END:VEVENT
BEGIN:VEVENT
DTSTART;TZID=UTC:20260327T071000
DTEND;TZID=UTC:20260327T081000
UID:4A46E93E-C030-4517-B36D-2AAAEA0814A0
SUMMARY:Kreuzweg ✝️
CREATED:20250908T061935Z
DTSTAMP:20250908T061935Z
URL:https://vspfaffenschlag.ac.at/index.php/termine/kreuzweg
LAST-MODIFIED:20250908T061935Z
SEQUENCE:0
X-ACCESS:1
X-HITS:4
X-COLOR:d7b6c2
X-SHOW-END-TIME:0
END:VEVENT
BEGIN:VEVENT
DTSTART;TZID=UTC:20260422T071000
DTEND;TZID=UTC:20260422T081000
UID:83FF8FFD-937C-4EAC-B26C-D0B0B6585D46
SUMMARY:Apollonia Zahngesundheit 🦷🪥🐊
CREATED:20250908T062127Z
DTSTAMP:20250908T062127Z
URL:https://vspfaffenschlag.ac.at/index.php/termine/apollonia-zahngesundheit-4
LAST-MODIFIED:20250908T062127Z
SEQUENCE:0
X-ACCESS:1
X-HITS:4
X-COLOR:d7b6c2
X-SHOW-END-TIME:0
END:VEVENT
BEGIN:VEVENT
DTSTART;TZID=UTC:20260507T100000
DTEND;TZID=UTC:20260507T110000
UID:79B37EC9-36A9-4FCC-B9D3-D29C9EC287E2
SUMMARY:Exkursion zur WEB 🪁
CREATED:20260310T071732Z
DTSTAMP:20260310T071732Z
URL:https://vspfaffenschlag.ac.at/index.php/termine/exkursion-zur-web
DESCRIPTION:    
X-ALT-DESC;FMTTYPE=text/html:    
LAST-MODIFIED:20260310T071732Z
SEQUENCE:0
X-ACCESS:1
X-HITS:2
X-COLOR:d7b6c2
X-SHOW-END-TIME:0
END:VEVENT
BEGIN:VEVENT
DTSTART;TZID=UTC:20260511T080000
DTEND;TZID=UTC:20260511T120000
UID:6337A2B1-A7C1-4596-BDDE-5BFFBB7C528C
SUMMARY:Musical "Die kleine Meerjungfrau" im Stadtsaal WT🧜‍♀️
CREATED:20250908T062100Z
DTSTAMP:20250908T062100Z
URL:https://vspfaffenschlag.ac.at/index.php/termine/musical-die-kleine-meerjungfrau-im-stadtsaal-wt
LAST-MODIFIED:20250908T062100Z
SEQUENCE:0
X-ACCESS:1
X-HITS:2
X-COLOR:d7b6c2
X-SHOW-END-TIME:0
END:VEVENT
BEGIN:VEVENT
DTSTART;TZID=UTC:20260522T070000
DTEND;TZID=UTC:20260522T080000
UID:9A2DB517-82B7-4CA1-86DD-56B04DEB4138
SUMMARY:Safety Tour ⛑️🧯⚡
CREATED:20251003T054222Z
DTSTAMP:20251003T054222Z
URL:https://vspfaffenschlag.ac.at/index.php/termine/safety-tour-2
LAST-MODIFIED:20251003T054222Z
SEQUENCE:0
X-ACCESS:1
X-HITS:4
X-COLOR:d7b6c2
X-SHOW-END-TIME:0
END:VEVENT
BEGIN:VEVENT
DTSTART;VALUE=DATE:20260524
DTEND;VALUE=DATE:20260525
UID:41D8C271-1AD7-435B-B42A-DB57CA4899AB
SUMMARY:Erstkommunion 🫓
CREATED:20250930T075149Z
DTSTAMP:20250930T075149Z
URL:https://vspfaffenschlag.ac.at/index.php/termine/erstkommunion-2
LAST-MODIFIED:20250930T075149Z
SEQUENCE:0
X-ACCESS:1
X-HITS:3
X-COLOR:d7b6c2
X-SHOW-END-TIME:1
END:VEVENT
BEGIN:VEVENT
DTSTART;TZID=UTC:20260622T081500
DTEND;TZID=UTC:20260622T091500
UID:5D4202CE-8F7F-4635-A6AA-97E43886C02F
SUMMARY:Pipmatz macht Wald aus euch im Hoftheater Pürbach 🦜
CREATED:20260303T092646Z
DTSTAMP:20260303T092646Z
URL:https://vspfaffenschlag.ac.at/index.php/termine/pipmatz-macht-wald-aus-euch-im-hoftheater-puerbach
LAST-MODIFIED:20260303T092708Z
SEQUENCE:22
X-ACCESS:1
X-HITS:1
X-COLOR:d7b6c2
X-SHOW-END-TIME:0
END:VEVENT
END:VCALENDAR